BEGIN:VCALENDAR
VERSION:2.0
PRODID:-//wp-events-plugin.com//7.2.3.1//EN
TZID:Europe/Paris
X-WR-TIMEZONE:Europe/Paris
BEGIN:VEVENT
UID:8@regisezin.com
DTSTART;TZID=Africa/Abidjan:20240615T150000
DTEND;TZID=Africa/Abidjan:20240615T170000
DTSTAMP:20240521T170422Z
URL:https://regisezin.com/events/devenir-un-manager-inspirant-et-performan
 t/
SUMMARY:Webinaire : Devenir un manager inspirant et performant
DESCRIPTION:
CATEGORIES:Business ROCket Camp
END:VEVENT
BEGIN:VTIMEZONE
TZID:Africa/Abidjan
X-LIC-LOCATION:Africa/Abidjan
BEGIN:STANDARD
DTSTART:20230616T150000
TZOFFSETFROM:+0000
TZOFFSETTO:+0000
TZNAME:GMT
END:STANDARD
END:VTIMEZONE
END:VCALENDAR